BEGIN:VCALENDAR
VERSION:2.0
PRODID:https://github.com/derhansen/sf_event_mgt
METHOD:PUBLISH
BEGIN:VEVENT
UID:2406-151@www.museumdermoderne.at
CLASS: PUBLIC
SUMMARY:Spring Reception of the Friends and Supporters' Association
DESCRIPTION:The Board of the Friends and Supporters' Association of the Mus
 eum der Moderne Salzburg warmly invites you to the Spring Reception on the
  Sculpture Terrace.\n\nProgramme: 5:00 pm – Get-together and aperitif on
  the Sculpture Terrace 6:00 pm – Presentation of the Baselitz Edition 6:
 30 pm – Short insights into the exhibitions Charlotte Perriand. Living M
 odern: Design, Photography, Architecture, BASELITZ NOW, and Stano Filko. 1
 2 Chakras of Becoming by the Art Education Team 8:00 pm – Aperitif in th
 e exhibition space\n\nWe look forward to your attendance and kindly ask yo
 u to register at freunde(at)mdmsalzburg.at.
LOCATION:Mönchsberg Skulpturenplatz & Skulpturenterrasse
DTSTAMP:20260413T074511Z
DTSTART:20260520T150000Z
DTEND:20260520T193000Z
END:VEVENT
END:VCALENDAR