BEGIN:VCALENDAR
VERSION:2.0
PRODID:https://github.com/derhansen/sf_event_mgt
METHOD:PUBLISH
BEGIN:VEVENT
UID:2381-156@www.museumdermoderne.at
CLASS: PUBLIC
SUMMARY:AUSGEBUCHT: Kreativwoche 1
DESCRIPTION:Montag, 20. Juli bis Freitag, 24. Juli 2026 jeweils 9 bis 15 Uh
 r  5 Tage voller cooler Kunstabenteuer, kreativer Ideen, unterschiedlicher
  kÃ¼nstlerischer Techniken und Spiel und SpaÃŸ in der Natur rund um den MÃ
 ¶nchsberg â€“ das ist unsere Kreativwoche in den Sommerferien. Gemeinsam e
 rkunden wir die aktuellen Ausstellungen und lassen uns davon zum kreativen
  Gestalten im Atelier inspirieren.\n\nFÃ¼r alle im Alter von 8 bis 14 Jahr
 en
LOCATION:MÃ¶nchsberg
DTSTAMP:20260304T144615Z
DTSTART:20260720T070000Z
DTEND:20260724T130000Z
END:VEVENT
END:VCALENDAR