BEGIN:VCALENDAR
VERSION:2.0
PRODID:https://github.com/derhansen/sf_event_mgt
METHOD:PUBLISH
BEGIN:VEVENT
UID:2382-156@www.museumdermoderne.at
CLASS: PUBLIC
SUMMARY:AUSGEBUCHT: Kreativwoche 2
DESCRIPTION:Montag, 17. August bis Freitag, 21. August 2026 jeweils 9 bis 1
 5 Uhr  5 Tage voller cooler Kunstabenteuer, kreativer Ideen, unterschiedli
 cher künstlerischer Techniken und Spiel und Spaß in der Natur rund um de
 n Mönchsberg – das ist unsere Kreativwoche in den Sommerferien. Gemeins
 am erkunden wir die aktuellen Ausstellungen und lassen uns davon zum kreat
 iven Gestalten im Atelier inspirieren.\n\nFür alle im Alter von 8 bis 14 
 Jahren
LOCATION:Mönchsberg
DTSTAMP:20260304T144631Z
DTSTART:20260817T070000Z
DTEND:20260821T130000Z
END:VEVENT
END:VCALENDAR