BEGIN:VCALENDAR
VERSION:2.0
PRODID:https://github.com/derhansen/sf_event_mgt
METHOD:PUBLISH
BEGIN:VEVENT
UID:2398-151@www.museumdermoderne.at
CLASS: PUBLIC
SUMMARY:AusstellungserÃ¶ffnung: Charlotte Perriand. Moderne leben: Design, Fotografie, Architektur
DESCRIPTION:Mit der Ausstellung Charlotte Perriand. Moderne leben widmet da
 s Museum der Moderne Salzburg der franzÃ¶sischen Architektin und Designeri
 n die erste groÃŸe Retrospektive in Ã–sterreich und lÃ¤dt herzlich zur ErÃ
 ¶ffnung ein.\n\nDie Ausstellung vereint zentrale Werke aus Architektur, De
 sign und Fotografie und zeichnet das Bild einer Gestalterin, die das moder
 ne Leben neu dachte. Perriand verstand ihre EntwÃ¼rfe nie als isolierte Ob
 jekte, sondern als Teil eines umfassenden Lebensraums â€“ funktional, sozi
 al und Ã¤sthetisch zugleich.\n\nNach ihrer prÃ¤genden Zeit im Atelier von 
 Le Corbusier entwickelte sie eine eigenstÃ¤ndige Position, die zu den einf
 lussreichsten BeitrÃ¤gen der Architektur- und Designgeschichte des 20. Jah
 rhunderts zÃ¤hlt. Ikonische MÃ¶belentwÃ¼rfe treffen in der Ausstellung auf
  fotografische Arbeiten und raumgreifende Konzepte, die ihr ganzheitliches
  Denken sichtbar machen.\n\nZur ErÃ¶ffnung sprechen Harald Krejci (Direkto
 r) sowie weitere EhrengÃ¤ste.\n\nWir freuen uns auf Ihr Kommen.
LOCATION:MÃ¶nchsberg
DTSTAMP:20260213T112513Z
DTSTART:20260430T170000Z
DTEND:20260430T190000Z
END:VEVENT
END:VCALENDAR