BEGIN:VCALENDAR
VERSION:2.0
PRODID:https://github.com/derhansen/sf_event_mgt
METHOD:PUBLISH
BEGIN:VEVENT
UID:2469-151@www.museumdermoderne.at
CLASS: PUBLIC
SUMMARY:feierabend | Open-Air DJ-Set mit Rova
DESCRIPTION:Die nächste Runde feierabend steht an: Open-Air-DJ-Sets, lokal
 e Acts und entspannte Abende im Innenhof des Museums.\n\nAm 7. Mai überni
 mmt Rova den Sound im Rupertinum. Die Salzburger DJ ist seit vielen Jahr
 en Teil der lokalen elektronischen Musikszene und bringt fein selektierte,
  energiegeladene Sounds mit, die sich offen zwischen Genres bewegen.\n\nUm
  18 Uhr findet eine freie Führung durch die aktuellen Ausstellungen statt
 .\n\nDas Museum im Rupertinum bleibt an diesem Abend bis 20 Uhr geöffnet,
  ab 17 Uhr ist der Eintritt frei.\n\nIn Kooperation mit VLUID Agency. DJ-K
 uration, Sound & Technik.
LOCATION:Altstadt (Rupertinum)
DTSTAMP:20260424T081439Z
DTSTART:20260507T150000Z
DTEND:20260507T180000Z
END:VEVENT
END:VCALENDAR