BEGIN:VCALENDAR
VERSION:2.0
PRODID:https://github.com/derhansen/sf_event_mgt
METHOD:PUBLISH
BEGIN:VEVENT
UID:2406-151@www.museumdermoderne.at
CLASS: PUBLIC
SUMMARY:Frühlingsfest des Freundes- und Förderkreis
DESCRIPTION:Der Vorstand des Freundes- und Förderkreises Museum der Modern
 e Salzburg lädt herzlich zum Frühlingsfest auf der Skulpturenterrasse ei
 n.\n\nProgramm: 17:00 Uhr – Get together und Aperitif auf der Skulpturen
 terrasse 18:00 Uhr – Präsentation der Edition Baselitz 18:30 Uhr – Ku
 rzimpulse zu den Ausstellungen Charlotte Perriand. Moderne leben: Design, 
 Fotografie, Architektur, BASELITZ JETZT und Stano Filko. 12 Chakras of Be
 coming durch die Kunstvermittlung  20:00 Uhr – Aperitif im Ausstellung
 sraum\n\nWir freuen uns auf Ihr Kommen und bitten um Anmeldung unter freun
 de(at)mdmsalzburg.at.
LOCATION:Mönchsberg Skulpturenplatz & Skulpturenterrasse
DTSTAMP:20260413T074511Z
DTSTART:20260520T150000Z
DTEND:20260520T193000Z
END:VEVENT
END:VCALENDAR